git_url: https://git.bioconductor.org/packages/MetaVolcanoR
git_branch: RELEASE_3_17
git_last_commit: df8aea1
git_last_commit_date: 2023-04-25 11:11:04 -0400 (Tue, 25 Apr 2023)
Package: MetaVolcanoR
Version: 1.14.0
Maintainer: Cesar Prada
MaintainerEmail: cesar.prada.medina at gmail.com