git_url: https://git.bioconductor.org/packages/MetNet
git_branch: RELEASE_3_17
git_last_commit: 22806c3
git_last_commit_date: 2023-04-25 11:03:48 -0400 (Tue, 25 Apr 2023)
Package: MetNet
Version: 1.18.0
Maintainer: Thomas Naake
MaintainerEmail: thomasnaake at googlemail.com