git_url: https://git.bioconductor.org/packages/MetCirc
git_branch: RELEASE_3_17
git_last_commit: 4c46367
git_last_commit_date: 2023-04-25 10:47:39 -0400 (Tue, 25 Apr 2023)
Package: MetCirc
Version: 1.30.0
Maintainer: Thomas Naake
MaintainerEmail: thomasnaake at googlemail.com