git_url: https://git.bioconductor.org/packages/MesKit
git_branch: RELEASE_3_17
git_last_commit: b2526ca
git_last_commit_date: 2023-04-25 11:20:51 -0400 (Tue, 25 Apr 2023)
Package: MesKit
Version: 1.10.0
Maintainer: Mengni Liu
MaintainerEmail: niinleslie at gmail.com