Package: Mergeomics Version: 1.28.0 Command: F:\biocbuild\bbs-3.17-bioc\R\bin\R.exe CMD INSTALL Mergeomics StartedAt: 2023-10-15 15:46:59 -0400 (Sun, 15 Oct 2023) EndedAt: 2023-10-15 15:47:09 -0400 (Sun, 15 Oct 2023) EllapsedTime: 10.4 seconds RetCode: 0 Status: OK