##############################################################################
##############################################################################
###
### Running command:
###
###   /Library/Frameworks/R.framework/Resources/bin/R CMD check --install=check:Mergeomics.install-out.txt --library=/Library/Frameworks/R.framework/Resources/library --no-vignettes --timings Mergeomics_1.28.0.tar.gz
###
##############################################################################
##############################################################################


* using log directory ‘/Users/biocbuild/bbs-3.17-bioc/meat/Mergeomics.Rcheck’
* using R version 4.3.1 (2023-06-16)
* using platform: x86_64-apple-darwin20 (64-bit)
* R was compiled by
    Apple clang version 14.0.3 (clang-1403.0.22.14.1)
    GNU Fortran (GCC) 12.2.0
* running under: macOS Monterey 12.6.4
* using session charset: UTF-8
* using option ‘--no-vignettes’
* checking for file ‘Mergeomics/DESCRIPTION’ ... OK
* checking extension type ... Package
* this is package ‘Mergeomics’ version ‘1.28.0’
* checking package namespace information ... OK
* checking package dependencies ... OK
* checking if this is a source package ... OK
* checking if there is a namespace ... OK
* checking for hidden files and directories ... OK
* checking for portable file names ... OK
* checking for sufficient/correct file permissions ... OK
* checking whether package ‘Mergeomics’ can be installed ... OK
* checking installed package size ... NOTE
  installed size is  8.3Mb
  sub-directories of 1Mb or more:
    extdata   7.5Mb
* checking package directory ... OK
* checking ‘build’ directory ... OK
* checking DESCRIPTION meta-information ... OK
* checking top-level files ... OK
* checking for left-over files ... OK
* checking index information ... OK
* checking package subdirectories ... OK
* checking R files for non-ASCII characters ... OK
* checking R files for syntax errors ... OK
* checking whether the package can be loaded ... OK
* checking whether the package can be loaded with stated dependencies ... OK
* checking whether the package can be unloaded cleanly ... OK
* checking whether the namespace can be loaded with stated dependencies ... OK
* checking whether the namespace can be unloaded cleanly ... OK
* checking dependencies in R code ... OK
* checking S3 generic/method consistency ... OK
* checking replacement functions ... OK
* checking foreign function calls ... OK
* checking R code for possible problems ... NOTE
kda.analyze: no visible global function definition for ‘p.adjust’
kda.analyze.exec: no visible global function definition for ‘pnorm’
kda.analyze.simulate: no visible global function definition for ‘rnorm’
kda.prepare: no visible global function definition for ‘quantile’
kda.prepare: no visible global function definition for ‘object.size’
kda.prepare.screen: no visible global function definition for
  ‘quantile’
kda.prepare.screen: no visible global function definition for ‘median’
kda.start: no visible global function definition for ‘object.size’
kda2cytoscape: no visible global function definition for ‘write.table’
kda2cytoscape.colormap: no visible global function definition for
  ‘rainbow’
kda2cytoscape.colormap: no visible global function definition for
  ‘col2rgb’
kda2himmeli: no visible global function definition for ‘quantile’
kda2himmeli: no visible global function definition for ‘write.table’
kda2himmeli.colormap: no visible global function definition for
  ‘rainbow’
kda2himmeli.colormap: no visible global function definition for
  ‘col2rgb’
ssea.analyze: no visible global function definition for ‘qnorm’
ssea.analyze: no visible global function definition for ‘approx’
ssea.analyze: no visible global function definition for ‘pnorm’
ssea.analyze.simulate: no visible global function definition for
  ‘quantile’
ssea.control: no visible global function definition for ‘median’
ssea.control: no visible global function definition for ‘object.size’
ssea.meta: no visible global function definition for ‘qnorm’
ssea.meta: no visible global function definition for ‘quantile’
ssea.meta: no visible global function definition for ‘pnorm’
ssea.meta: no visible global function definition for ‘median’
ssea.meta: no visible global function definition for ‘na.omit’
ssea.prepare: no visible global function definition for ‘median’
ssea.prepare: no visible global function definition for ‘object.size’
ssea.start: no visible global function definition for ‘na.omit’
ssea.start: no visible global function definition for ‘object.size’
ssea.start.configure: no visible global function definition for
  ‘write.table’
ssea2kda: no visible global function definition for ‘na.omit’
ssea2kda.import: no visible global function definition for ‘na.omit’
tool.aggregate: no visible global function definition for ‘na.omit’
tool.cluster: no visible global function definition for ‘as.dist’
tool.cluster: no visible global function definition for ‘hclust’
tool.fdr.bh: no visible global function definition for ‘qnorm’
tool.fdr.bh: no visible global function definition for ‘p.adjust’
tool.fdr.bh: no visible global function definition for ‘approx’
tool.fdr.empirical: no visible global function definition for ‘qnorm’
tool.fdr.empirical: no visible global function definition for ‘approx’
tool.metap: no visible global function definition for ‘qnorm’
tool.metap: no visible global function definition for ‘pnorm’
tool.normalize: no visible global function definition for ‘sd’
tool.normalize: no visible global function definition for ‘median’
tool.normalize: no visible global function definition for ‘optim’
tool.normalize: no visible global function definition for ‘ks.test’
tool.normalize.quality: no visible global function definition for ‘sd’
tool.normalize.quality: no visible global function definition for
  ‘ks.test’
tool.overlap: no visible global function definition for ‘phyper’
tool.read: no visible global function definition for ‘read.delim’
tool.read: no visible global function definition for ‘na.omit’
tool.save: no visible global function definition for ‘write.table’
tool.unify: no visible global function definition for ‘sd’
tool.unify: no visible global function definition for ‘quantile’
tool.unify: no visible global function definition for ‘approx’
Undefined global functions or variables:
  approx as.dist col2rgb hclust ks.test median na.omit object.size
  optim p.adjust phyper pnorm qnorm quantile rainbow read.delim rnorm
  sd write.table
Consider adding
  importFrom("grDevices", "col2rgb", "rainbow")
  importFrom("stats", "approx", "as.dist", "hclust", "ks.test", "median",
             "na.omit", "optim", "p.adjust", "phyper", "pnorm", "qnorm",
             "quantile", "rnorm", "sd")
  importFrom("utils", "object.size", "read.delim", "write.table")
to your NAMESPACE file.
* checking Rd files ... OK
* checking Rd metadata ... OK
* checking Rd cross-references ... OK
* checking for missing documentation entries ... OK
* checking for code/documentation mismatches ... OK
* checking Rd \usage sections ... OK
* checking Rd contents ... OK
* checking for unstated dependencies in examples ... OK
* checking contents of ‘data’ directory ... OK
* checking data for non-ASCII characters ... OK
* checking data for ASCII and uncompressed saves ... OK
* checking sizes of PDF files under ‘inst/doc’ ... OK
* checking files in ‘vignettes’ ... OK
* checking examples ... OK
Examples with CPU (user + system) or elapsed time > 5s
                         user system elapsed
kda.analyze.exec       17.246  0.319  22.903
kda.analyze.test       16.977  0.214  21.646
kda.analyze.simulate   16.975  0.214  22.391
kda.prepare            16.946  0.235  21.911
ssea2kda               11.726  0.259  15.605
ssea2kda.analyze       11.434  0.249  15.256
ssea.meta               9.849  0.178  12.639
ssea2kda.import         9.521  0.181  12.698
ssea.finish.details     9.433  0.182  12.503
ssea.finish.genes       9.252  0.171  12.015
ssea.analyze            9.056  0.291  11.803
ssea.finish.fdr         9.164  0.163  11.897
ssea.finish             9.021  0.160  11.819
ssea.analyze.simulate   8.577  0.164  11.189
ssea.analyze.randgenes  7.143  0.070   9.103
ssea.control            7.009  0.080   9.473
ssea.analyze.observe    7.016  0.061   9.066
ssea.analyze.randloci   6.843  0.076   8.770
ssea.prepare.structure  6.814  0.072   8.891
ssea.prepare            6.787  0.066   8.712
ssea.prepare.counts     6.769  0.065   8.605
ssea.start              6.721  0.069   8.888
ssea.start.relabel      6.659  0.077   8.851
* checking for unstated dependencies in ‘tests’ ... OK
* checking tests ...
  Running ‘runTests.R’
 OK
* checking for unstated dependencies in vignettes ... OK
* checking package vignettes in ‘inst/doc’ ... OK
* checking running R code from vignettes ... SKIPPED
* checking re-building of vignette outputs ... SKIPPED
* checking PDF version of manual ... OK
* DONE

Status: 2 NOTEs
See
  ‘/Users/biocbuild/bbs-3.17-bioc/meat/Mergeomics.Rcheck/00check.log’
for details.