Package: Mergeomics
Version: 1.28.0
Command: /Library/Frameworks/R.framework/Resources/bin/R CMD build --keep-empty-dirs --no-resave-data Mergeomics
StartedAt: 2023-10-15 19:19:47 -0400 (Sun, 15 Oct 2023)
EndedAt: 2023-10-15 19:33:58 -0400 (Sun, 15 Oct 2023)
EllapsedTime: 851.6 seconds
RetCode: 0
Status: OK
PackageFile: Mergeomics_1.28.0.tar.gz
PackageFileSize: 3.204 <A href="http://en.wikipedia.org/wiki/MiB" target="_blank">MiB</A>