Package: MeSHDbi Version: 1.36.0 Command: chmod a+r MeSHDbi -R && F:\biocbuild\bbs-3.17-bioc\R\bin\R.exe CMD build --keep-empty-dirs --no-resave-data MeSHDbi StartedAt: 2023-10-15 20:15:13 -0400 (Sun, 15 Oct 2023) EndedAt: 2023-10-15 20:15:33 -0400 (Sun, 15 Oct 2023) EllapsedTime: 20.1 seconds RetCode: 0 Status: OK PackageFile: MeSHDbi_1.36.0.tar.gz PackageFileSize: 51.9 KiB