Package: MeSHDbi Version: 1.36.0 Command: rm -rf MeSHDbi.buildbin-libdir && mkdir MeSHDbi.buildbin-libdir && F:\biocbuild\bbs-3.17-bioc\R\bin\R.exe CMD INSTALL --build --library=MeSHDbi.buildbin-libdir MeSHDbi_1.36.0.tar.gz StartedAt: 2023-10-16 09:03:00 -0400 (Mon, 16 Oct 2023) EndedAt: 2023-10-16 09:03:22 -0400 (Mon, 16 Oct 2023) EllapsedTime: 21.8 seconds RetCode: 0 Status: OK PackageFile: MeSHDbi_1.36.0.zip PackageFileSize: 468.4 KiB