git_url: https://git.bioconductor.org/packages/MatrixRider
git_branch: RELEASE_3_17
git_last_commit: 3499b23
git_last_commit_date: 2023-04-25 10:38:13 -0400 (Tue, 25 Apr 2023)
Package: MatrixRider
Version: 1.32.0
Maintainer: Elena Grassi
MaintainerEmail: grassi.e at gmail.com