git_url: https://git.bioconductor.org/packages/MassSpecWavelet
git_branch: RELEASE_3_17
git_last_commit: be1c4b2
git_last_commit_date: 2023-04-25 09:45:13 -0400 (Tue, 25 Apr 2023)
Package: MassSpecWavelet
Version: 1.66.0
Maintainer: Sergio Oller Moreno
MaintainerEmail: sergioller at gmail.com