##############################################################################
##############################################################################
###
### Running command:
###
###   F:\biocbuild\bbs-3.17-bioc\R\bin\R.exe CMD INSTALL MSstatsSampleSize
###
##############################################################################
##############################################################################


* installing to library 'F:/biocbuild/bbs-3.17-bioc/R/library'
* installing *source* package 'MSstatsSampleSize' ...
** using staged installation
** R
** data
*** moving datasets to lazyload DB
** inst
** byte-compile and prepare package for lazy loading
** help
*** installing help indices
** building package indices
** installing vignettes
** testing if installed package can be loaded from temporary location
Warning: Package 'MSstatsSampleSize' is deprecated and will be removed from
  Bioconductor version 3.19
** testing if installed package can be loaded from final location
Warning: Package 'MSstatsSampleSize' is deprecated and will be removed from
  Bioconductor version 3.19
** testing if installed package keeps a record of temporary installation path
* DONE (MSstatsSampleSize)