Package: MSstatsSampleSize
Version: 1.13.0
Command: rm -rf MSstatsSampleSize.buildbin-libdir && mkdir MSstatsSampleSize.buildbin-libdir && F:\biocbuild\bbs-3.17-bioc\R\bin\R.exe CMD INSTALL --build --library=MSstatsSampleSize.buildbin-libdir MSstatsSampleSize_1.13.0.tar.gz
StartedAt: 2023-03-16 08:36:05 -0400 (Thu, 16 Mar 2023)
EndedAt: 2023-03-16 08:36:32 -0400 (Thu, 16 Mar 2023)
EllapsedTime: 27.2 seconds
RetCode: 0
Status: OK
PackageFile: MSstatsSampleSize_1.13.0.zip
PackageFileSize: 3.194 <A href="http://en.wikipedia.org/wiki/MiB" target="_blank">MiB</A>