Package: MSstatsSampleSize
Version: 1.14.1
Command: /home/biocbuild/bbs-3.17-bioc/R/bin/R CMD INSTALL MSstatsSampleSize
StartedAt: 2023-10-15 15:39:53 -0400 (Sun, 15 Oct 2023)
EndedAt: 2023-10-15 15:40:11 -0400 (Sun, 15 Oct 2023)
EllapsedTime: 18.0 seconds
RetCode: 0
Status: OK