Package: MSstatsSampleSize
Version: 1.14.1
Command: /home/biocbuild/bbs-3.17-bioc/R/bin/R CMD build --keep-empty-dirs --no-resave-data MSstatsSampleSize
StartedAt: 2023-10-15 17:35:16 -0400 (Sun, 15 Oct 2023)
EndedAt: 2023-10-15 17:35:41 -0400 (Sun, 15 Oct 2023)
EllapsedTime: 25.9 seconds
RetCode: 1
Status: ERROR
PackageFile: None
PackageFileSize: NA