Package: MSstatsSampleSize
Version: 1.14.1
Command: /Library/Frameworks/R.framework/Resources/bin/R CMD build --keep-empty-dirs --no-resave-data MSstatsSampleSize
StartedAt: 2023-10-15 19:45:39 -0400 (Sun, 15 Oct 2023)
EndedAt: 2023-10-15 19:47:04 -0400 (Sun, 15 Oct 2023)
EllapsedTime: 85.1 seconds
RetCode: 1
Status: ERROR
PackageFile: None
PackageFileSize: NA