Package: MSstatsSampleSize
Version: 1.13.0
Command: rm -rf MSstatsSampleSize.buildbin-libdir && mkdir MSstatsSampleSize.buildbin-libdir && /Users/biocbuild/BBS/utils/build-universal.sh MSstatsSampleSize_1.13.0.tar.gz /Library/Frameworks/R.framework/Resources/bin/R MSstatsSampleSize.buildbin-libdir
StartedAt: 2023-03-16 09:33:24 -0400 (Thu, 16 Mar 2023)
EndedAt: 2023-03-16 09:34:25 -0400 (Thu, 16 Mar 2023)
EllapsedTime: 61.4 seconds
RetCode: 0
Status: OK
PackageFile: MSstatsSampleSize_1.13.0.tgz
PackageFileSize: 3.19 <A href="http://en.wikipedia.org/wiki/MiB" target="_blank">MiB</A>