git_url: https://git.bioconductor.org/packages/MSstatsQC
git_branch: RELEASE_3_17
git_last_commit: 15cabd0
git_last_commit_date: 2023-04-25 10:56:47 -0400 (Tue, 25 Apr 2023)
Package: MSstatsQC
Version: 2.18.0
Maintainer: Eralp Dogu
MaintainerEmail: eralp.dogu at gmail.com