Package: MSstatsPTM Version: 2.2.4 Command: F:\biocbuild\bbs-3.17-bioc\R\bin\R.exe CMD check --no-multiarch --install=check:MSstatsPTM.install-out.txt --library=F:\biocbuild\bbs-3.17-bioc\R\library --no-vignettes --timings MSstatsPTM_2.2.4.tar.gz StartedAt: 2023-10-16 04:29:37 -0400 (Mon, 16 Oct 2023) EndedAt: 2023-10-16 04:33:09 -0400 (Mon, 16 Oct 2023) EllapsedTime: 211.5 seconds RetCode: 0 Status: OK CheckDir: MSstatsPTM.Rcheck Warnings: 0