git_url: https://git.bioconductor.org/packages/MSstats
git_branch: RELEASE_3_17
git_last_commit: 81aae3b
git_last_commit_date: 2023-07-28 09:34:56 -0400 (Fri, 28 Jul 2023)
Package: MSstats
Version: 4.8.7
Maintainer: Meena Choi
MaintainerEmail: mnchoi67 at gmail.com