git_url: https://git.bioconductor.org/packages/MOMA
git_branch: RELEASE_3_17
git_last_commit: a9260ac
git_last_commit_date: 2023-04-25 11:17:48 -0400 (Tue, 25 Apr 2023)
Package: MOMA
Version: 1.12.0
Maintainer: Sunny Jones
MaintainerEmail: sunnyjjones at gmail.com