git_url: https://git.bioconductor.org/packages/MLInterfaces
git_branch: RELEASE_3_17
git_last_commit: 275f8d3
git_last_commit_date: 2023-04-25 09:40:45 -0400 (Tue, 25 Apr 2023)
Package: MLInterfaces
Version: 1.80.0
Maintainer: Vincent Carey
MaintainerEmail: stvjc at channing.harvard.edu