git_url: https://git.bioconductor.org/packages/MAGeCKFlute
git_branch: RELEASE_3_17
git_last_commit: 386b65d
git_last_commit_date: 2023-04-25 10:58:30 -0400 (Tue, 25 Apr 2023)
Package: MAGeCKFlute
Version: 2.4.0
Maintainer: Wubing Zhang
MaintainerEmail: Watson5bZhang at gmail.com