Package: MACSr
Version: 1.8.0
Command: /home/biocbuild/bbs-3.17-bioc/R/bin/R CMD INSTALL MACSr
StartedAt: 2023-10-15 15:49:03 -0400 (Sun, 15 Oct 2023)
EndedAt: 2023-10-15 15:49:20 -0400 (Sun, 15 Oct 2023)
EllapsedTime: 16.9 seconds
RetCode: 0
Status: OK