Package: MACSr
Version: 1.8.0
Command: /home/biocbuild/bbs-3.17-bioc/R/bin/R CMD build --keep-empty-dirs --no-resave-data MACSr
StartedAt: 2023-10-15 17:17:12 -0400 (Sun, 15 Oct 2023)
EndedAt: 2023-10-15 17:17:46 -0400 (Sun, 15 Oct 2023)
EllapsedTime: 34.8 seconds
RetCode: 0
Status: OK
PackageFile: MACSr_1.8.0.tar.gz
PackageFileSize: 864.3 <A href="http://en.wikipedia.org/wiki/KiB" target="_blank">KiB</A>