git_url: https://git.bioconductor.org/packages/LinTInd
git_branch: RELEASE_3_17
git_last_commit: c540418
git_last_commit_date: 2023-04-25 11:35:50 -0400 (Tue, 25 Apr 2023)
Package: LinTInd
Version: 1.4.0
Maintainer: Luyue Wang
MaintainerEmail: wly1995310 at gmail.com