git_url: https://git.bioconductor.org/packages/IsoCorrectoR
git_branch: RELEASE_3_17
git_last_commit: 46deb34
git_last_commit_date: 2023-04-25 11:04:41 -0400 (Tue, 25 Apr 2023)
Package: IsoCorrectoR
Version: 1.18.0
Maintainer: Christian Kohler
MaintainerEmail: christian.kohler at ur.de