Package: IntOMICS Version: 1.0.0 Command: rm -rf IntOMICS.buildbin-libdir && mkdir IntOMICS.buildbin-libdir && /Users/biocbuild/BBS/utils/build-universal.sh IntOMICS_1.0.0.tar.gz /Library/Frameworks/R.framework/Resources/bin/R IntOMICS.buildbin-libdir StartedAt: 2023-10-16 09:35:28 -0400 (Mon, 16 Oct 2023) EndedAt: 2023-10-16 09:37:06 -0400 (Mon, 16 Oct 2023) EllapsedTime: 98.3 seconds RetCode: 0 Status: OK PackageFile: IntOMICS_1.0.0.tgz PackageFileSize: 2.719 MiB