git_url: https://git.bioconductor.org/packages/InPAS
git_branch: RELEASE_3_17
git_last_commit: 0a681a9
git_last_commit_date: 2023-04-25 10:38:23 -0400 (Tue, 25 Apr 2023)
Package: InPAS
Version: 2.8.0
Maintainer: Jianhong Ou
MaintainerEmail: jianhong.ou at duke.edu