git_url: https://git.bioconductor.org/packages/Icens
git_branch: RELEASE_3_17
git_last_commit: aa56cb4
git_last_commit_date: 2023-04-25 09:39:56 -0400 (Tue, 25 Apr 2023)
Package: Icens
Version: 1.72.0
Maintainer: Bioconductor Package Maintainer
MaintainerEmail: maintainer at bioconductor.org