git_url: https://git.bioconductor.org/packages/ITALICS
git_branch: RELEASE_3_17
git_last_commit: c66562e
git_last_commit_date: 2023-04-25 09:47:16 -0400 (Tue, 25 Apr 2023)
Package: ITALICS
Version: 2.60.0
Maintainer: Guillem Rigaill
MaintainerEmail: italics at curie.fr