git_url: https://git.bioconductor.org/packages/ISAnalytics
git_branch: RELEASE_3_17
git_last_commit: af97c9b
git_last_commit_date: 2023-07-24 10:11:21 -0400 (Mon, 24 Jul 2023)
Package: ISAnalytics
Version: 1.10.2
Maintainer: Giulia Pais
MaintainerEmail: giuliapais1 at gmail.com