git_url: https://git.bioconductor.org/packages/IMPCdata
git_branch: RELEASE_3_17
git_last_commit: 8bbbeac
git_last_commit_date: 2023-04-25 10:35:57 -0400 (Tue, 25 Apr 2023)
Package: IMPCdata
Version: 1.36.0
Maintainer: Jeremy Mason
MaintainerEmail: jmason at ebi.ac.uk