git_url: https://git.bioconductor.org/packages/IMAS
git_branch: RELEASE_3_17
git_last_commit: 2a5c9ed
git_last_commit_date: 2023-04-25 10:53:46 -0400 (Tue, 25 Apr 2023)
Package: IMAS
Version: 1.24.0
Maintainer: Seonggyun Han
MaintainerEmail: hangost at ssu.ac.kr