git_url: https://git.bioconductor.org/packages/ILoReg
git_branch: RELEASE_3_17
git_last_commit: 3eb4df3
git_last_commit_date: 2023-04-25 11:20:49 -0400 (Tue, 25 Apr 2023)
Package: ILoReg
Version: 1.10.0
Maintainer: Johannes Smolander
MaintainerEmail: johannes.smolander at gmail.com