git_url: https://git.bioconductor.org/packages/HilbertVisGUI
git_branch: RELEASE_3_17
git_last_commit: e69413c
git_last_commit_date: 2023-04-25 09:48:00 -0400 (Tue, 25 Apr 2023)
Package: HilbertVisGUI
Version: 1.58.0
Maintainer: Simon Anders
MaintainerEmail: sanders at fs.tum.de