Package: HiCDOC Version: 1.2.0 Command: F:\biocbuild\bbs-3.17-bioc\R\bin\R.exe CMD INSTALL HiCDOC StartedAt: 2023-10-15 16:57:43 -0400 (Sun, 15 Oct 2023) EndedAt: 2023-10-15 16:58:46 -0400 (Sun, 15 Oct 2023) EllapsedTime: 63.1 seconds RetCode: 0 Status: OK