Package: HiCDOC Version: 1.2.0 Command: /home/biocbuild/bbs-3.17-bioc/R/bin/R CMD build --keep-empty-dirs --no-resave-data HiCDOC StartedAt: 2023-10-15 17:06:09 -0400 (Sun, 15 Oct 2023) EndedAt: 2023-10-15 17:08:34 -0400 (Sun, 15 Oct 2023) EllapsedTime: 144.1 seconds RetCode: 0 Status: OK PackageFile: HiCDOC_1.2.0.tar.gz PackageFileSize: 3.375 MiB