git_url: https://git.bioconductor.org/packages/Harshlight
git_branch: RELEASE_3_17
git_last_commit: 0ec7d5e
git_last_commit_date: 2023-04-25 09:44:01 -0400 (Tue, 25 Apr 2023)
Package: Harshlight
Version: 1.72.0
Maintainer: Maurizio Pellegrino
MaintainerEmail: mpellegri at berkeley.edu