git_url: https://git.bioconductor.org/packages/HMMcopy
git_branch: RELEASE_3_17
git_last_commit: 9579882
git_last_commit_date: 2023-04-25 10:24:25 -0400 (Tue, 25 Apr 2023)
Package: HMMcopy
Version: 1.42.0
Maintainer: Daniel Lai
MaintainerEmail: dalai at bccrc.ca