git_url: https://git.bioconductor.org/packages/HIREewas
git_branch: RELEASE_3_17
git_last_commit: 0d76d51
git_last_commit_date: 2023-04-25 11:05:20 -0400 (Tue, 25 Apr 2023)
Package: HIREewas
Version: 1.18.0
Maintainer: Xiangyu Luo
MaintainerEmail: xyluo1991 at gmail.com