Package: HIBAG Version: 1.36.4 Command: /home/biocbuild/bbs-3.17-bioc/R/bin/R CMD INSTALL HIBAG StartedAt: 2023-10-15 15:06:46 -0400 (Sun, 15 Oct 2023) EndedAt: 2023-10-15 15:07:09 -0400 (Sun, 15 Oct 2023) EllapsedTime: 23.4 seconds RetCode: 0 Status: OK