Package: HIBAG Version: 1.36.4 Command: /home/biocbuild/bbs-3.17-bioc/R/bin/R CMD build --keep-empty-dirs --no-resave-data HIBAG StartedAt: 2023-10-15 17:05:35 -0400 (Sun, 15 Oct 2023) EndedAt: 2023-10-15 17:06:15 -0400 (Sun, 15 Oct 2023) EllapsedTime: 39.9 seconds RetCode: 0 Status: OK PackageFile: HIBAG_1.36.4.tar.gz PackageFileSize: 1.588 MiB