Package: HIBAG Version: 1.36.4 Command: /Library/Frameworks/R.framework/Resources/bin/R CMD build --keep-empty-dirs --no-resave-data HIBAG StartedAt: 2023-10-15 18:50:58 -0400 (Sun, 15 Oct 2023) EndedAt: 2023-10-15 18:52:38 -0400 (Sun, 15 Oct 2023) EllapsedTime: 99.1 seconds RetCode: 0 Status: OK PackageFile: HIBAG_1.36.4.tar.gz PackageFileSize: 1.649 MiB