Package: GenomicDistributions
Version: 1.8.0
Command: F:\biocbuild\bbs-3.17-bioc\R\bin\R.exe CMD check --no-multiarch --install=check:GenomicDistributions.install-out.txt --library=F:\biocbuild\bbs-3.17-bioc\R\library --no-vignettes --timings GenomicDistributions_1.8.0.tar.gz
StartedAt: 2023-10-16 02:29:45 -0400 (Mon, 16 Oct 2023)
EndedAt: 2023-10-16 02:32:34 -0400 (Mon, 16 Oct 2023)
EllapsedTime: 168.8 seconds
RetCode: 0
Status: OK
CheckDir: GenomicDistributions.Rcheck
Warnings: 0