Package: GenomicDistributions Version: 1.8.0 Command: rm -rf GenomicDistributions.buildbin-libdir && mkdir GenomicDistributions.buildbin-libdir && F:\biocbuild\bbs-3.17-bioc\R\bin\R.exe CMD INSTALL --build --library=GenomicDistributions.buildbin-libdir GenomicDistributions_1.8.0.tar.gz StartedAt: 2023-10-16 08:51:19 -0400 (Mon, 16 Oct 2023) EndedAt: 2023-10-16 08:51:46 -0400 (Mon, 16 Oct 2023) EllapsedTime: 26.5 seconds RetCode: 0 Status: OK PackageFile: GenomicDistributions_1.8.0.zip PackageFileSize: 4.764 MiB