Package: GenomicDistributions Version: 1.8.0 Command: /Library/Frameworks/R.framework/Resources/bin/R CMD INSTALL GenomicDistributions StartedAt: 2023-10-15 15:16:20 -0400 (Sun, 15 Oct 2023) EndedAt: 2023-10-15 15:17:14 -0400 (Sun, 15 Oct 2023) EllapsedTime: 53.5 seconds RetCode: 0 Status: OK