Package: GenomicDistributions Version: 1.8.0 Command: /Library/Frameworks/R.framework/Resources/bin/R CMD build --keep-empty-dirs --no-resave-data GenomicDistributions StartedAt: 2023-10-15 18:31:32 -0400 (Sun, 15 Oct 2023) EndedAt: 2023-10-15 18:34:10 -0400 (Sun, 15 Oct 2023) EllapsedTime: 157.2 seconds RetCode: 0 Status: OK PackageFile: GenomicDistributions_1.8.0.tar.gz PackageFileSize: 5.831 <A href="http://en.wikipedia.org/wiki/MiB" target="_blank">MiB</A>