git_url: https://git.bioconductor.org/packages/GeneRegionScan
git_branch: RELEASE_3_17
git_last_commit: 3070615
git_last_commit_date: 2023-04-25 09:48:36 -0400 (Tue, 25 Apr 2023)
Package: GeneRegionScan
Version: 1.56.0
Maintainer: Lasse Folkersen
MaintainerEmail: lasfol at cbs.dtu.dk