git_url: https://git.bioconductor.org/packages/GenProSeq
git_branch: RELEASE_3_17
git_last_commit: 54af195
git_last_commit_date: 2023-05-24 07:38:10 -0400 (Wed, 24 May 2023)
Package: GenProSeq
Version: 1.4.2
Maintainer: Dongmin Jung
MaintainerEmail: dmdmjung at gmail.com